BEGIN:VCALENDAR
VERSION:2.0
PRODID:-//St John the Divine Anglican Church - ECPv5.3.2.1//NONSGML v1.0//EN
CALSCALE:GREGORIAN
METHOD:PUBLISH
X-WR-CALNAME:St John the Divine Anglican Church
X-ORIGINAL-URL:http://www.stjohndivine.org.au
X-WR-CALDESC:Events for St John the Divine Anglican Church
BEGIN:VTIMEZONE
TZID:Australia/Melbourne
BEGIN:STANDARD
TZOFFSETFROM:+1100
TZOFFSETTO:+1000
TZNAME:AEST
DTSTART:20210403T160000
END:STANDARD
BEGIN:DAYLIGHT
TZOFFSETFROM:+1000
TZOFFSETTO:+1100
TZNAME:AEDT
DTSTART:20211002T160000
END:DAYLIGHT
END:VTIMEZONE
BEGIN:VEVENT
DTSTART;VALUE=DATE:20210307
DTEND;VALUE=DATE:20210308
DTSTAMP:20210227T231025
CREATED:20210222T013719Z
LAST-MODIFIED:20210222T014136Z
UID:2197-1615075200-1615161599@www.stjohndivine.org.au
SUMMARY:Bunnings Fundraising BBQ
DESCRIPTION:A fundraising event for St John’s Kindergarten
URL:http://www.stjohndivine.org.au/event/st-johns-kindergarten-bunnings-fundraising-bbq/
LOCATION:Bunnings\, Chirnside Park\, Australia
ATTACH;FMTTYPE=image/png:http://www.stjohndivine.org.au/wp/wp-content/uploads/2016/07/StJohnsKindergarten.png
END:VEVENT
BEGIN:VEVENT
DTSTART;VALUE=DATE:20210328
DTEND;VALUE=DATE:20210329
DTSTAMP:20210227T231025
CREATED:20210221T123021Z
LAST-MODIFIED:20210224T102442Z
UID:2160-1616889600-1616975999@www.stjohndivine.org.au
SUMMARY:Palm Sunday
DESCRIPTION:
URL:http://www.stjohndivine.org.au/event/palm-sunday/
ATTACH;FMTTYPE=image/jpeg:http://www.stjohndivine.org.au/wp/wp-content/uploads/2021/02/Palm-Sunday-image.jpg
END:VEVENT
BEGIN:VEVENT
DTSTART;TZID=Australia/Melbourne:20210401T190000
DTEND;TZID=Australia/Melbourne:20210401T200000
DTSTAMP:20210227T231025
CREATED:20210221T123642Z
LAST-MODIFIED:20210224T101726Z
UID:2163-1617303600-1617307200@www.stjohndivine.org.au
SUMMARY:Maundy Thursday
DESCRIPTION:Commemoration of the last supper.
URL:http://www.stjohndivine.org.au/event/maundy-thursday/
ATTACH;FMTTYPE=image/jpeg:http://www.stjohndivine.org.au/wp/wp-content/uploads/2021/02/Maundy-Thursday-image.jpg
END:VEVENT
BEGIN:VEVENT
DTSTART;TZID=Australia/Melbourne:20210402T090000
DTEND;TZID=Australia/Melbourne:20210402T100000
DTSTAMP:20210227T231025
CREATED:20210221T133804Z
LAST-MODIFIED:20210224T101756Z
UID:2184-1617354000-1617357600@www.stjohndivine.org.au
SUMMARY:Good Friday
DESCRIPTION:Commemoration of the death of Christ.
URL:http://www.stjohndivine.org.au/event/good-friday/
ATTACH;FMTTYPE=image/jpeg:http://www.stjohndivine.org.au/wp/wp-content/uploads/2021/02/Good-Friday-Image.jpg
END:VEVENT
BEGIN:VEVENT
DTSTART;VALUE=DATE:20210403
DTEND;VALUE=DATE:20210404
DTSTAMP:20210227T231025
CREATED:20210224T102026Z
LAST-MODIFIED:20210224T102239Z
UID:2215-1617408000-1617494399@www.stjohndivine.org.au
SUMMARY:Holy Saturday/Easter Vigil
DESCRIPTION:Anticipating the resurrection.
URL:http://www.stjohndivine.org.au/event/holy-saturday-easter-vigil/
ATTACH;FMTTYPE=image/jpeg:http://www.stjohndivine.org.au/wp/wp-content/uploads/2021/02/Easter-Vigil-image.jpeg
END:VEVENT
END:VCALENDAR